BEGIN:VCALENDAR
VERSION:2.0
PRODID:-//ESVIG - ECPv6.15.20//NONSGML v1.0//EN
CALSCALE:GREGORIAN
METHOD:PUBLISH
X-WR-CALNAME:ESVIG
X-ORIGINAL-URL:https://esvig.com.mx
X-WR-CALDESC:Eventos para ESVIG
REFRESH-INTERVAL;VALUE=DURATION:PT1H
X-Robots-Tag:noindex
X-PUBLISHED-TTL:PT1H
BEGIN:VTIMEZONE
TZID:UTC
BEGIN:STANDARD
TZOFFSETFROM:+0000
TZOFFSETTO:+0000
TZNAME:UTC
DTSTART:20250101T000000
END:STANDARD
END:VTIMEZONE
BEGIN:VEVENT
DTSTART;TZID=UTC:20260327T090000
DTEND;TZID=UTC:20260327T140000
DTSTAMP:20260420T202336
CREATED:20201013T042127Z
LAST-MODIFIED:20260317T002431Z
UID:4368-1774602000-1774620000@esvig.com.mx
SUMMARY:Curso en Línea: Formación de Operadores de CCTV
DESCRIPTION:Curso en Línea: Formación de Operadores de CCTV\nFormación de Operadores de CCTV\n  \nEvento: Curso en Línea\, Formación de Operadores de CCTV \n \n ATENCIÓN OPERADORES DE CCTV\n Curso en Línea \nCapacítate a distancia \nCurso completamente en vivo con el instructor\, se realizan evaluaciones y actividades de aprendizaje.\n************************************************\n \nNombre del curso:\nFORMACIÓN DE OPERADORES DE CCTV.\n************************************************\n \nObjetivo del curso:\n\nObtener los conocimientos básicos y fundamentales para vigilar y proteger adecuadamente un inmueble a cargo. \n************************************************ \n\n \nDuración:\n10 horas.\n************************************************\n \n Dirigido a:\nPersonal de Seguridad Patrimonial y Seguridad Privada\, Operadores de CCTV.\n************************************************\n \nFecha:\n\nOpción 1: En Línea\, en vivo con el instructor\, por videoconferencia: 27 de marzo y 01 de abril de 2026.\nParticipas los dos días. Se ven temas diferentes.\nOpción 2: En Línea\, Autodidacta: Día libre para tomar el curso en la plataforma con curso interactivo.\n\n************************************************\n \nSede:\nEn Línea\, desde nuestra Plataforma de Capacitación e-ESVIG. Lo puedes tomar desde la comodidad de tu hogar u oficina. Solo requieres de un equipo de computo\, tablet o celular.\n************************************************\n \nHorario:\n\nOpción 1: En Línea\, en vivo con el instructor\, por videoconferencia: De 09:00 a 14:00 horas (horario de la Ciudad de México).\nOpción 2: En Línea\, Autodidacta: Horario libre\, acceso a la plataforma las 24 horas del día.\n\n************************************************\n \nBeneficios:\n\n\n– Recibirás constancia de participación en formato digital con código QR de autentificación de nuestra Plataforma de Capacitación e-ESVIG.\n– Si lo deseas puedes pasar a las oficinas de ESVIG por tu constancia de participación y DC-3 (enviados por su patrón a curso) en formato impreso.\n– Si lo deseas puedes solicitar a tu domicilio la constancia de participación y DC-3 (enviados por su patrón a curso) en formato impreso. Se aumentan gastos de envío en servicio de mensajería de su preferencia.\n\n\n************************************************\n \nTemario:\n\n\n1. Inducción a la seguridad patrimonial.\n2. Inducción al CCTV.\n3. El Operador de CCTV.\n4. Habilidades Básicas del pensamiento Humano (observar\, comparar\, relacionar\, clasificar\, describir).\n5. Detección de Amenazas por medio del CCTV.\n6. Antes\, durante y después de una emergencia.\n7. Prevención de pérdidas por medio del CCTV.\n8. Redacción de reportes.\n\n\n************************************************\n \n│ ► Informes\n│ ——│(55) 2845 3339\n│ ——│contacto@eesvig.org   ó bien a la dirección de correo\, contacto@esvig.com.mx\n││\n│ ► Inversión\n│ ——│ Cotizar curso.\n************************************************\n \n¡Inscribite hoy mismo!\n************************************************\n \n ¡Contáctanos y resolvemos tus dudas! \n************************************************\n 
URL:https://esvig.com.mx/event/curso-en-linea-formacion-de-operadores-de-cctv
ORGANIZER;CN="INSTITUTO ESVIG":MAILTO:contacto@esvig.com.mx
END:VEVENT
BEGIN:VEVENT
DTSTART;TZID=UTC:20260327T150000
DTEND;TZID=UTC:20260327T190000
DTSTAMP:20260420T202336
CREATED:20201106T215846Z
LAST-MODIFIED:20260317T002219Z
UID:4477-1774623600-1774638000@esvig.com.mx
SUMMARY:Curso en Línea: Elaboración de un Análisis de Riesgos
DESCRIPTION:Curso en Línea: Elaboración de Análisis de Riesgos\nElaboración de un Análisis de Riesgos\nEvento: Curso en Línea\, Elaboración de un Análisis de Riesgos \n \n ATENCIÓN LÍDERES DE SEGURIDAD PATRIMONIAL\n Curso en Línea \nCapacítate a distancia \nCurso completamente en vivo con el instructor\, se realizan evaluaciones y actividades de aprendizaje.\n************************************************\n \nNombre del curso:\nELABORACIÓN DE UN ANÁLISIS DE RIESGOS.\n************************************************\n \nObjetivo del curso:\n\nConocer la metodología para la elaboración de un Análisis de Riesgos en materia de Seguridad Patrimonial. \n************************************************ \n\n \nDuración:\n05 horas.\n************************************************\n \n Dirigido a:\nLíderes de Seguridad Patrimonial y Seguridad Privada.\n************************************************\n \nFecha:\n\nOpción 1: En Línea\, en vivo con el instructor\, por videoconferencia: 27 de marzo de 2026.\nOpción 2: En Línea\, en vivo con el instructor\, por videoconferencia: 28 de marzo de 2026.\nOpción 3: En Línea\, Autodidacta: Día libre para tomar el curso en la plataforma con clases pregrabadas.\n\n************************************************\n \nSede:\nEn Línea\, desde nuestra Plataforma de Capacitación e-ESVIG. Lo puedes tomar desde la comodidad de tu hogar u oficina. Solo requieres de un equipo de computo\, tablet o celular.\n************************************************\n \nHorario:\n\nOpción 1: En Línea\, en vivo con el instructor\, por videoconferencia: 27-marzo-2026\, de 15:00 a 19:00 horas.\nOpción 2: En Línea\, en vivo con el instructor\, por videoconferencia: 28-marzo-2026\, de 15:00 a 19:00 horas.\nOpción 3: En Línea\, Autodidacta: Horario libre\, acceso a la plataforma las 24 horas del día.\n\n************************************************\n \nBeneficios:\n\n– Recibirás constancia de participación en formato digital con código QR de autentificación de nuestra Plataforma de Capacitación e-ESVIG.\n– Podrás descargar materiales digitales del curso para tu estudio personal.\n– Si lo deseas puedes pasar a las oficinas de ESVIG por tu constancia de participación y DC-3 (para trabajadores incorporados a una empresa y enviados por su patrón a curso) en formato impreso.\n– Si lo deseas puedes solicitar a tu domicilio la constancia de participación y DC-3 (para trabajadores incorporados a una empresa y enviados por su patrón a curso) en formato impreso. Se aumentan gastos de envío en servicio de mensajería de su preferencia.\n\n************************************************\n \nTemario:\n\n\n\n\n\n1.- Inducción a la seguridad patrimonial.\n2.- Principales definiciones.\n3.- Agentes Perturbadores (socio organizativos).\n4.- Identificación de Amenazas.\n5.- Diagnostico de nivel de exposición y protección.\n6.- ¿Qué es estudio de vulnerabilidad?\n7.- ¿Qué es un análisis de riesgos?\n8.- Gestión de Riesgos (identificación\, análisis\, evaluación y tratamiento).\n9.- Metodologías para elaborar análisis de riesgos.\n10.- Ejercicio práctico.\n\n\n\n\n\n************************************************\n \n│ ► Informes\n│ ——│(55) 2845 3339\n│ ——│contacto@eesvig.org   ó bien a la dirección de correo\, contacto@esvig.com.mx\n││\n│ ► Inversión\n│ ——│ Cotizar curso.\n************************************************\n \n¡Inscribite hoy mismo!\n************************************************\n \n ¡Contáctanos y resolvemos tus dudas! \n************************************************
URL:https://esvig.com.mx/event/curso-en-linea-elaboracion-de-un-analisis-de-riesgos
ORGANIZER;CN="INSTITUTO ESVIG":MAILTO:contacto@esvig.com.mx
END:VEVENT
BEGIN:VEVENT
DTSTART;TZID=UTC:20260328T090000
DTEND;TZID=UTC:20260328T140000
DTSTAMP:20260420T202336
CREATED:20210522T025021Z
LAST-MODIFIED:20260317T002942Z
UID:5825-1774688400-1774706400@esvig.com.mx
SUMMARY:Curso en Línea: Monitoreo de Sistemas GPS
DESCRIPTION:Curso en Línea: Monitoreo de Sistemas GPS\nMonitoreo de Sistemas GPS\nEvento: Curso en Línea\, Monitoreo de Sistemas GPS. \n \n ATENCIÓN MONITORISTAS DE CENTRALES DE MONITOREO GPS\n Curso en Línea \nCapacítate a distancia \nCurso completamente en vivo con el instructor\, se realizan evaluaciones y actividades de aprendizaje.\n************************************************\n \nNombre del curso:\nMONITOREO DE SISTEMAS GPS.\n************************************************\n \nObjetivo del curso:\n\nObtener los conocimientos genéricos para vigilar unidades a distancia\, desde una central de monitoreo GPS. \n************************************************ \n\n \nDuración:\n10 horas.\n************************************************\n \n Dirigido a:\nOperadores de centrales de monitoreo de alarmas.\n************************************************\n \n  Fecha:\nOpción 1: En Línea\, en vivo con el instructor\, por videoconferencia: 28 de marzo y 04 de abril de 2026.\n*Participas los dos días. Se ven temas diferentes.\nOpción 2: En Línea\, Autodidacta: Día libre para tomar el curso en la plataforma con clases pregrabadas.\n************************************************\n \nSede:\nEn Línea\, desde nuestra Plataforma de Capacitación e-ESVIG. Lo puedes tomar desde la comodidad de tu hogar u oficina. Solo requieres de un equipo de computo\, tablet o celular.\n************************************************\n \nHorario:\nOpción 1: En Línea\, en vivo con el instructor\, por videoconferencia: 28 de marzo y 04 de abril\, de 09:00 a 14:00 horas (horario de la Ciudad de México).\nOpción 2: En Línea\, Autodidacta: Horario libre\, acceso a la plataforma las 24 horas del día.\n************************************************\n \nBeneficios:\n\n\n– Recibirás constancia de participación en formato digital con código QR de autentificación de nuestra Plataforma de Capacitación e-ESVIG.\n– Si lo deseas puedes pasar a las oficinas de ESVIG por tu constancia de participación y DC-3 (para trabajadores incorporados a una empresa y enviados por su patrón a curso) en formato impreso.\n– Si lo deseas puedes solicitar a tu domicilio la constancia de participación y DC-3 (para trabajadores incorporados a una empresa y enviados por su patrón a curso) en formato impreso. Se aumentan gastos de envío en servicio de mensajería de su preferencia.\n\n\n************************************************\n \nTemario:\n\n\n\n\n\n1. Inducción a la seguridad privada.\n2. Inducción a los sistemas de monitoreo GPS.\n3. El operador de sistemas de monitoreo GPS.\n4. la protección a personas mediante sistemas de monitoreo GPS.\n5. La custodia de bienes mediante sistemas de monitoreo GPS.\n6. Inteligencia y de campo sobre riesgos o amenazas.\n7. Identificación de factores de riesgo y planeación de rutas.\n8. Actuación del monitorista antes\, durante y después de una emergencia de una unidad.\n9. Habilidades de comunicación (reportes verbales y escritos).\n10. Atención y servicio al cliente.\n\n\n\n\n\n************************************************\n \n│ ► Informes\n│ ——│(55) 2845 3339\n│ ——│contacto@eesvig.org   ó bien a la dirección de correo\, contacto@esvig.com.mx\n││\n│ ► Inversión\n│ ——│ Cotizar curso.\n************************************************\n \n¡Inscribite hoy mismo!\n************************************************\n \n ¡Contáctanos y resolvemos tus dudas! \n************************************************
URL:https://esvig.com.mx/event/curso-en-linea-monitoreo-de-sistemas-gps
ORGANIZER;CN="INSTITUTO ESVIG":MAILTO:contacto@esvig.com.mx
END:VEVENT
BEGIN:VEVENT
DTSTART;TZID=UTC:20260328T150000
DTEND;TZID=UTC:20260328T190000
DTSTAMP:20260420T202336
CREATED:20201106T220929Z
LAST-MODIFIED:20260317T003331Z
UID:4479-1774710000-1774724400@esvig.com.mx
SUMMARY:Curso en Línea 2: Elaboración de un Análisis de Riesgos
DESCRIPTION:Curso en Línea 2: Elaboración de Análisis de Riesgos\nElaboración de un Análisis de Riesgos\nEvento: Curso en Línea 2\, Elaboración de un Análisis de Riesgos \n \n ATENCIÓN LÍDERES DE SEGURIDAD PATRIMONIAL\n Curso en Línea \nCapacítate a distancia \nCurso completamente en vivo con el instructor\, se realizan evaluaciones y actividades de aprendizaje.\n************************************************\n \nNombre del curso:\nELABORACIÓN DE UN ANÁLISIS DE RIESGOS.\n************************************************\n \nObjetivo del curso:\n\nConocer la metodología para la elaboración de un Análisis de Riesgos en materia de Seguridad Patrimonial. \n************************************************ \n\n \nDuración:\n05 horas.\n************************************************\n \n Dirigido a:\nLíderes de Seguridad Patrimonial y Seguridad Privada.\n************************************************\n \nFecha:\n\nOpción 1: En Línea\, en vivo con el instructor\, por videoconferencia: 27 de marzo de 2026.\nOpción 1: En Línea\, en vivo con el instructor\, por videoconferencia: 28 de marzo de 2026.\nOpción 3: En Línea\, Autodidacta: Día libre para tomar el curso en la plataforma con clases pregrabadas.\n\n************************************************\n \nSede:\nEn Línea\, desde nuestra Plataforma de Capacitación e-ESVIG. Lo puedes tomar desde la comodidad de tu hogar u oficina. Solo requieres de un equipo de computo\, tablet o celular.\n************************************************\n \nHorario:\n\nOpción 1: En Línea\, en vivo con el instructor\, por videoconferencia: 27 de marzo\, de 15:00 a 19:00 horas.\nOpción 2: En Línea\, en vivo con el instructor\, por videoconferencia: 28 de marzo\, de 15:00 a 19:00 horas.\nOpción 3: En Línea\, Autodidacta: Horario libre\, acceso a la plataforma las 24 horas del día.\n\n************************************************\n \nBeneficios:\n\n– Recibirás constancia de participación en formato digital con código QR de autentificación de nuestra Plataforma de Capacitación e-ESVIG.\n– Si lo deseas puedes pasar a las oficinas de ESVIG por tu constancia de participación y DC-3 (para trabajadores incorporados a una empresa y enviados por su patrón a curso) en formato impreso.\n– Si lo deseas puedes solicitar a tu domicilio la constancia de participación y DC-3 (para trabajadores incorporados a una empresa y enviados por su patrón a curso) en formato impreso. Se envía aumentan gastos de envío en servicio de mensajería de su preferencia.\n\n************************************************\n \nTemario:\n\n\n\n\n\n1.- Inducción a la seguridad patrimonial.\n2.- Principales definiciones.\n3.- Agentes Perturbadores (socio organizativos).\n4.- Identificación de Amenazas.\n5.- Diagnóstico de nivel de exposición y protección.\n6.- ¿Qué es estudio de vulnerabilidad?\n7.- ¿Qué es un análisis de riesgos?\n8.- Gestión de Riesgos (identificación\, análisis\, evaluación y tratamiento).\n9.- Metodologías para elaborar análisis de riesgos.\n10.- Ejercicio práctico.\n\n\n\n\n\n************************************************\n \n│ ► Informes\n│ ——│(55) 2845 3339\n│ ——│contacto@eesvig.org   ó bien a la dirección de correo\, contacto@esvig.com.mx\n││\n│ ► Inversión\n│ ——│ Cotizar curso.\n************************************************\n \n¡Inscribite hoy mismo!\n************************************************\n \n ¡Contáctanos y resolvemos tus dudas! \n************************************************
URL:https://esvig.com.mx/event/curso-en-linea-2-elaboracion-de-un-analisis-de-riesgos
ORGANIZER;CN="INSTITUTO ESVIG":MAILTO:contacto@esvig.com.mx
END:VEVENT
BEGIN:VEVENT
DTSTART;TZID=UTC:20260330T193000
DTEND;TZID=UTC:20260330T220000
DTSTAMP:20260420T202336
CREATED:20201012T043309Z
LAST-MODIFIED:20260317T003805Z
UID:4263-1774899000-1774908000@esvig.com.mx
SUMMARY:Curso en Línea: Seguridad Patrimonial en Establecimientos Públicos y Privados
DESCRIPTION:Curso en Línea: Seguridad Patrimonial en Establecimientos Públicos y Privados\n\nSeguridad Patrimonial en Establecimientos Públicos y Privados\n\n \nEvento: Curso en Línea: Seguridad Patrimonial en Establecimientos Públicos y Privados.\n \n ATENCIÓN LÍDERES EN SEG. PATRIMONIAL\n Curso en Línea \nCapacítate a distancia \nCurso completamente en vivo con el instructor\, se realizan evaluaciones y actividades de aprendizaje.\n************************************************\n \nNombre del curso:\nSEGURIDAD PATRIMONIAL EN ESTABLECIMIENTOS PÚBLICOS Y PRIVADOS.\n************************************************\n \nObjetivo del curso:\nConocer las herramientas para gestionar el área de Seguridad Patrimonial en una organización.\n************************************************\n \nDuración:\n10 horas.\n************************************************\n \n Dirigido a:\nPersonal de Seguridad Patrimonial y Seguridad Privada\, responsables de administrar la Seguridad Patrimonial en las empresas.\n************************************************\n \n  Fecha:\nOpción 1: Del 30 de marzo al 02 de abril de 2026.\n*Participas los 04 días\, se ven temas diferentes.\nOpción 2: En Línea\, Autodidacta: Día libre para tomar el curso en la plataforma con clases pregrabadas.\n************************************************\n \nSede:\nEn Línea\, desde nuestra Plataforma de Capacitación e-ESVIG. Lo puedes tomar desde la comodidad de tu hogar u oficina. Solo requieres de un equipo de computo\, tablet o celular.\n************************************************\n \nHorario:\nOpción 1-Nocturno: Del 30 de marzo al 02 de abril de 2026\, de 19:300 a 22:00 horas.\nOpción 2: En Línea\, Autodidacta: Día libre para tomar el curso en la plataforma con clases pregrabadas.\n************************************************\n \nBeneficios:\n\n\n– Recibirás constancia de participación en formato digital con código QR de autentificación de nuestra Plataforma de Capacitación e-ESVIG.\n– Si lo deseas puedes pasar a las oficinas de ESVIG por tu constancia de participación y DC-3 (para trabajadores incorporados a una empresa y enviados por su patrón a curso) en formato impreso.\n– Si lo deseas puedes solicitar a tu domicilio la constancia de participación y DC-3 (para trabajadores incorporados a una empresa y enviados por su patrón a curso) en formato impreso. Se aumentan gastos de envío en servicio de mensajería de su preferencia.\n\n\n************************************************\n \nTemario:\n1.- La seguridad y seguridad patrimonial.\n2.- Sistema de gestión en seguridad patrimonial.\n3.- El líder de seguridad patrimonial.\n4.- Diagnóstico en seguridad patrimonial.\n5.- Sistemas de seguridad física.\n6.- La vigilancia y protección de inmuebles (seguridad patrimonial + seguridad privada)\n7.- Prevención y control de emergencias (la seguridad patrimonial + protección civil + EHS).\n8.- Seguridad de la cadena de suministro.\n9.- Prevención de pérdidas.\n10.- Seguridad de la información.\n************************************************\n \n│ ► Informes\n│ ——│(55) 2845 3339\n│ ——│contacto@eesvig.org   ó bien a la dirección de correo\, contacto@esvig.com.mx\n││\n│ ► Inversión\n│ ——│ Cotizar curso.\n************************************************\n \n¡Inscribite hoy mismo!\n************************************************\n \n ¡Contáctanos y resolvemos tus dudas! \n************************************************
URL:https://esvig.com.mx/event/curso-en-linea-seguridad-patrimonial-en-establecimientos-publicos-y-privados
ORGANIZER;CN="INSTITUTO ESVIG":MAILTO:contacto@esvig.com.mx
END:VEVENT
END:VCALENDAR